BEGIN:VCALENDAR
VERSION:2.0
PRODID:-//Maincy - ECPv4.6.25//NONSGML v1.0//EN
CALSCALE:GREGORIAN
METHOD:PUBLISH
X-WR-CALNAME:Maincy
X-ORIGINAL-URL:https://www.maincy.fr
X-WR-CALDESC:Évènements pour Maincy
BEGIN:VEVENT
DTSTART;TZID=Europe/Paris:20220605T080000
DTEND;TZID=Europe/Paris:20220605T180000
DTSTAMP:20260422T145919
CREATED:20220429T135332Z
LAST-MODIFIED:20220429T135332Z
UID:4023-1654416000-1654452000@www.maincy.fr
SUMMARY:Vide Grenier et Fête Foraine
DESCRIPTION:\n\n\nVide Grenier le 5 juin de 8h à 18h. Modalités inscriptions \n\n\n\n
URL:https://www.maincy.fr/evenement/vide-grenier-et-fete-foraine/
CATEGORIES:festival
END:VEVENT
END:VCALENDAR